Workbook

Sheet Beitragsrechner
B4: Beitragsrechner
B6: Dieser Beitragsrechner ist nicht für die endgültige Abwicklung und Berechnung des familienergänzenden Kinderbetreuungsbeitrags vorgesehen. Er dient lediglich als Berechnungshilfe für eine erste Einschätzung, wie viel Betreuungsbeiträge einer Familie ungefähr zustehen. Um ein Gesuch für Kinderbetreuungsbeiträge bei Ihrer Wohngemeinde zu stellen, muss dies über die Applikation kiBon stattfinden.
B7: Hier geht es zur Webseite von kiBon
B8: Für die Berechnung müssen alle gelben Felder ausgefüllt sein. Füllen Sie dann die Felder im Bereich Haushalt und danach die Felder im Bereich Kinder aus. Für zusätzliche Informationen zu den Feldern Einkommen und Vermögen klicken Sie in das gelbe Eingabefeld.
B12: Haushalt | D12: Sind sie quellenbesteuert? | F12: Auswahl treffen | H12: Einkäufe berufliche Vorsorge
D14: Bruttoeinkommen | H14: Abzüge ausserordentlicher Liegenschaftsaufwand | J14: ='Berechnung Liegenschaftsunterh.'!C16 -> 0 | L14: (gemäss Berechnung Liegenschaftsunterhalt)
D16: Reineinkommen direkte Bundessteuer | H16: Reinvermögen
D19: Anzahl Kinder unter 18 Jahre alt | F19: Auswahl treffen | H19: davon betreut | J19: Auswahl treffen
B23: Kind | D23: Kind 1 | F23: Betreuungsart auswählen | H23: Geburtsdatum (dd.mm.yyyy) | L23: Zu welchen Zeiten wird Ihr Kind betreut? Bitte setzen Sie ein "x". | U23: Montag | V23: Dienstag | W23: Mittwoch | X23: Donnerstag | Y23: Freitag | AB23: Alter in Monaten | AC23: =DATEDIF(J23,TODAY(),"M") -> 1519
U24: =IF(M26="x",1,0) -> 0 | V24: =IF(N26="x",1,0) -> 0 | W24: =IF(O26="x",1,0) -> 0 | X24: =IF(P26="x",1,0) -> 0 | Y24: =IF(Q26="x",1,0) -> 0
D25: Findet die Betreuung während der Schulzeit statt? | F25: Auswahl treffen | H25: Ist Ihr Kind eingeschult? | J25: Ja | M25: Montag | N25: Dienstag | O25: Mittwoch | P25: Donnerstag | Q25: Freitag | U25: =IF(M27="x",1,0) -> 0 | V25: =IF(N27="x",1,0) -> 0 | W25: =IF(O27="x",1,0) -> 0 | X25: =IF(P27="x",1,0) -> 0 | Y25: =IF(Q27="x",1,0) -> 0 | AB25: Mittagstische | AC25: =SUM(U25:Y25) -> 0
L26: Morgen | U26: =IF(M28="x",1,0) -> 0 | V26: =IF(N28="x",1,0) -> 0 | W26: =IF(O28="x",1,0) -> 0 | X26: =IF(P28="x",1,0) -> 0 | Y26: =IF(Q28="x",1,0) -> 0
D27: Tagestarif | H27: Wie lange wird Ihr Kind pro Woche betreut? | L27: Mittagstisch | U27: =IF(M29="x",1,0) -> 1 | V27: =IF(N29="x",1,0) -> 0 | W27: =IF(O29="x",1,0) -> 0 | X27: =IF(P29="x",1,0) -> 0 | Y27: =IF(Q29="x",1,0) -> 0 | Z27: Stunden | AA27: Tage
D28: Stundentarif | H28: Anzahl Betreuungsstunden | L28: Nachmittag | T28: FEB | U28: =U24*4.5+U25*2.5+U26*3 -> 0 | V28: =V24*4.5+V25*2.5+V26*3 -> 0 | W28: =W24*4.5+W25*2.5+W26*3 -> 0 | X28: =X24*4.5+X25*2.5+X26*3 -> 0 | Y28: =Y24*4.5+Y25*2.5+Y26*3 -> 0 | Z28: =SUM(U28:Y28) -> 0 | AA28: =Z28/10 -> 0
D29: Tarif Mittagstisch | H29: Anzahl Betreuungstage | L29: Spät. Nachmittag | M29: x | T29: SEB | U29: =U24*1.5+U25*2.5+U26*2+U27*2 -> 2 | V29: =V24*1.5+V25*2.5+V26*2+V27*2 -> 0 | W29: =W24*1.5+W25*2.5+W26*2+W27*2 -> 0 | X29: =X24*1.5+X25*2.5+X26*2+X27*2 -> 0 | Y29: =Y24*1.5+Y25*2.5+Y26*2+Y27*2 -> 0 | Z29: =SUM(U29:Y29) -> 2 | AA29: =Z29/8 -> 0.25
D32: Kind 2 | F32: Kindertagesstätte (Kita) | H32: Geburtsdatum (dd.mm.yyyy) | L32: Zu welchen Zeiten wird Ihr Kind betreut? Bitte setzen Sie ein "x".
D34: Findet die Betreuung während der Schulzeit statt? | F34: Auswahl treffen | H34: Ist Ihr Kind eingeschult? | J34: Auswahl treffen | M34: Montag | N34: Dienstag | O34: Mittwoch | P34: Donnerstag | Q34: Freitag | U34: =IF(M35="x",1,0) -> 0 | V34: =IF(N35="x",1,0) -> 0 | W34: =IF(O35="x",1,0) -> 0 | X34: =IF(P35="x",1,0) -> 0 | Y34: =IF(Q35="x",1,0) -> 0 | AB34: Alter in Monaten | AC34: =DATEDIF(J32,TODAY(),"M") -> 1519
L35: Morgen | U35: =IF(M36="x",1,0) -> 0 | V35: =IF(N36="x",1,0) -> 0 | W35: =IF(O36="x",1,0) -> 0 | X35: =IF(P36="x",1,0) -> 0 | Y35: =IF(Q36="x",1,0) -> 0
D36: Tagestarif | H36: Wie lange wird Ihr Kind pro Woche betreut? | L36: Mittagstisch | U36: =IF(M37="x",1,0) -> 0 | V36: =IF(N37="x",1,0) -> 0 | W36: =IF(O37="x",1,0) -> 0 | X36: =IF(P37="x",1,0) -> 0 | Y36: =IF(Q37="x",1,0) -> 0 | AB36: Mittagstische | AC36: =SUM(U35:Y35) -> 0
D37: Stundentarif | H37: Anzahl Betreuungsstunden | L37: Nachmittag | U37: =IF(M38="x",1,0) -> 1 | V37: =IF(N38="x",1,0) -> 0 | W37: =IF(O38="x",1,0) -> 0 | X37: =IF(P38="x",1,0) -> 0 | Y37: =IF(Q38="x",1,0) -> 0 | Z37: Stunden | AA37: Tage
D38: Tarif Mittagstisch | H38: Anzahl Betreuungstage | L38: Spät. Nachmittag | M38: x | T38: FEB | U38: =U34*4.5+U35*2.5+U36*3 -> 0 | V38: =V34*4.5+V35*2.5+V36*3 -> 0 | W38: =W34*4.5+W35*2.5+W36*3 -> 0 | X38: =X34*4.5+X35*2.5+X36*3 -> 0 | Y38: =Y34*4.5+Y35*2.5+Y36*3 -> 0 | Z38: =SUM(U38:Y38) -> 0 | AA38: =Z38/10 -> 0
T39: SEB | U39: =U34*1.5+U35*2.5+U36*2+U37*2 -> 2 | V39: =V34*1.5+V35*2.5+V36*2+V37*2 -> 0 | W39: =W34*1.5+W35*2.5+W36*2+W37*2 -> 0 | X39: =X34*1.5+X35*2.5+X36*2+X37*2 -> 0 | Y39: =Y34*1.5+Y35*2.5+Y36*2+Y37*2 -> 0 | Z39: =SUM(U39:Y39) -> 2 | AA39: =Z39/8 -> 0.25
D41: Kind 3 | F41: Betreuungsart auswählen | H41: Geburtsdatum (dd.mm.yyyy) | L41: Zu welchen Zeiten wird Ihr Kind betreut? Bitte setzen Sie ein "x".
D43: Findet die Betreuung während der Schulzeit statt? | F43: Auswahl treffen | H43: Ist Ihr Kind eingeschult? | J43: Auswahl treffen | M43: Montag | N43: Dienstag | O43: Mittwoch | P43: Donnerstag | Q43: Freitag | U43: =IF(M44="x",1,0) -> 0 | V43: =IF(N44="x",1,0) -> 0 | W43: =IF(O44="x",1,0) -> 0 | X43: =IF(P44="x",1,0) -> 0 | Y43: =IF(Q44="x",1,0) -> 0 | AB43: Alter in Monaten | AC43: =DATEDIF(J41,TODAY(),"M") -> 1519
L44: Morgen | U44: =IF(M45="x",1,0) -> 0 | V44: =IF(N45="x",1,0) -> 0 | W44: =IF(O45="x",1,0) -> 0 | X44: =IF(P45="x",1,0) -> 0 | Y44: =IF(Q45="x",1,0) -> 0
D45: Tagestarif | H45: Wie lange wird Ihr Kind pro Woche betreut? | L45: Mittagstisch | U45: =IF(M46="x",1,0) -> 0 | V45: =IF(N46="x",1,0) -> 0 | W45: =IF(O46="x",1,0) -> 0 | X45: =IF(P46="x",1,0) -> 0 | Y45: =IF(Q46="x",1,0) -> 0 | AB45: Mittagstische | AC45: =SUM(U44:Y44) -> 0
D46: Stundentarif | F46: 0 | H46: Anzahl Betreuungsstunden | J46: 0 | L46: Nachmittag | U46: =IF(M47="x",1,0) -> 0 | V46: =IF(N47="x",1,0) -> 0 | W46: =IF(O47="x",1,0) -> 0 | X46: =IF(P47="x",1,0) -> 0 | Y46: =IF(Q47="x",1,0) -> 0 | Z46: Stunden | AA46: Tage
D47: Tarif Mittagstisch | H47: Anzahl Betreuungstage | J47: 0 | L47: Spät. Nachmittag | T47: FEB | U47: =U43*4.5+U44*2.5+U45*3 -> 0 | V47: =V43*4.5+V44*2.5+V45*3 -> 0 | W47: =W43*4.5+W44*2.5+W45*3 -> 0 | X47: =X43*4.5+X44*2.5+X45*3 -> 0 | Y47: =Y43*4.5+Y44*2.5+Y45*3 -> 0 | Z47: =SUM(U47:Y47) -> 0 | AA47: =Z47/10 -> 0
T48: SEB | U48: =U43*1.5+U44*2.5+U45*2+U46*2 -> 0 | V48: =V43*1.5+V44*2.5+V45*2+V46*2 -> 0 | W48: =W43*1.5+W44*2.5+W45*2+W46*2 -> 0 | X48: =X43*1.5+X44*2.5+X45*2+X46*2 -> 0 | Y48: =Y43*1.5+Y44*2.5+Y45*2+Y46*2 -> 0 | Z48: =SUM(U48:Y48) -> 0 | AA48: =Z48/8 -> 0
D50: Kind 4 | F50: Betreuungsart auswählen | H50: Geburtsdatum (dd.mm.yyyy) | L50: Zu welchen Zeiten wird Ihr Kind betreut? Bitte setzen Sie ein "x".
D52: Findet die Betreuung während der Schulzeit statt? | F52: Auswahl treffen | H52: Ist Ihr Kind eingeschult? | J52: Auswahl treffen | M52: Montag | N52: Dienstag | O52: Mittwoch | P52: Donnerstag | Q52: Freitag | U52: =IF(M53="x",1,0) -> 0 | V52: =IF(N53="x",1,0) -> 0 | W52: =IF(O53="x",1,0) -> 0 | X52: =IF(P53="x",1,0) -> 0 | Y52: =IF(Q53="x",1,0) -> 0 | AB52: Alter in Monaten | AC52: =DATEDIF(J50,TODAY(),"M") -> 1519
L53: Morgen | U53: =IF(M54="x",1,0) -> 0 | V53: =IF(N54="x",1,0) -> 0 | W53: =IF(O54="x",1,0) -> 0 | X53: =IF(P54="x",1,0) -> 0 | Y53: =IF(Q54="x",1,0) -> 0
D54: Tagestarif | H54: Wie lange wird Ihr Kind pro Woche betreut? | L54: Mittagstisch | U54: =IF(M55="x",1,0) -> 0 | V54: =IF(N55="x",1,0) -> 0 | W54: =IF(O55="x",1,0) -> 0 | X54: =IF(P55="x",1,0) -> 0 | Y54: =IF(Q55="x",1,0) -> 0 | AB54: Mittagstische | AC54: =SUM(U53:Y53) -> 0
D55: Stundentarif | F55: 0 | H55: Anzahl Betreuungsstunden | J55: 0 | L55: Nachmittag | U55: =IF(M56="x",1,0) -> 0 | V55: =IF(N56="x",1,0) -> 0 | W55: =IF(O56="x",1,0) -> 0 | X55: =IF(P56="x",1,0) -> 0 | Y55: =IF(Q56="x",1,0) -> 0 | Z55: Stunden | AA55: Tage
D56: Tarif Mittagstisch | H56: Anzahl Betreuungstage | J56: 0 | L56: Spät. Nachmittag | T56: FEB | U56: =U52*4.5+U53*2.5+U54*3 -> 0 | V56: =V52*4.5+V53*2.5+V54*3 -> 0 | W56: =W52*4.5+W53*2.5+W54*3 -> 0 | X56: =X52*4.5+X53*2.5+X54*3 -> 0 | Y56: =Y52*4.5+Y53*2.5+Y54*3 -> 0 | Z56: =SUM(U56:Y56) -> 0 | AA56: =Z56/10 -> 0
T57: SEB | U57: =U52*1.5+U53*2.5+U54*2+U55*2 -> 0 | V57: =V52*1.5+V53*2.5+V54*2+V55*2 -> 0 | W57: =W52*1.5+W53*2.5+W54*2+W55*2 -> 0 | X57: =X52*1.5+X53*2.5+X54*2+X55*2 -> 0 | Y57: =Y52*1.5+Y53*2.5+Y54*2+Y55*2 -> 0 | Z57: =SUM(U57:Y57) -> 0 | AA57: =Z57/8 -> 0
D59: Kind 5 | F59: Betreuungsart auswählen | H59: Geburtsdatum (dd.mm.yyyy) | L59: Zu welchen Zeiten wird Ihr Kind betreut? Bitte setzen Sie ein "x".
D61: Findet die Betreuung während der Schulzeit statt? | F61: Auswahl treffen | H61: Ist Ihr Kind eingeschult? | J61: Auswahl treffen | M61: Montag | N61: Dienstag | O61: Mittwoch | P61: Donnerstag | Q61: Freitag | U61: =IF(M62="x",1,0) -> 0 | V61: =IF(N62="x",1,0) -> 0 | W61: =IF(O62="x",1,0) -> 0 | X61: =IF(P62="x",1,0) -> 0 | Y61: =IF(Q62="x",1,0) -> 0
L62: Morgen | U62: =IF(M63="x",1,0) -> 0 | V62: =IF(N63="x",1,0) -> 0 | W62: =IF(O63="x",1,0) -> 0 | X62: =IF(P63="x",1,0) -> 0 | Y62: =IF(Q63="x",1,0) -> 0 | AB62: Alter in Monaten | AC62: =DATEDIF(J59,TODAY(),"M") -> 1519
D63: Tagestarif | H63: Wie lange wird Ihr Kind pro Woche betreut? | L63: Mittagstisch | U63: =IF(M64="x",1,0) -> 0 | V63: =IF(N64="x",1,0) -> 0 | W63: =IF(O64="x",1,0) -> 0 | X63: =IF(P64="x",1,0) -> 0 | Y63: =IF(Q64="x",1,0) -> 0
D64: Stundentarif | H64: Anzahl Betreuungsstunden | L64: Nachmittag | U64: =IF(M65="x",1,0) -> 0 | V64: =IF(N65="x",1,0) -> 0 | W64: =IF(O65="x",1,0) -> 0 | X64: =IF(P65="x",1,0) -> 0 | Y64: =IF(Q65="x",1,0) -> 0 | Z64: Stunden | AA64: Tage | AB64: Mittagstische | AC64: =SUM(U62:Y62) -> 0
D65: Tarif Mittagstisch | H65: Anzahl Betreuungstage | L65: Spät. Nachmittag | T65: FEB | U65: =U61*4.5+U62*2.5+U63*3 -> 0 | V65: =V61*4.5+V62*2.5+V63*3 -> 0 | W65: =W61*4.5+W62*2.5+W63*3 -> 0 | X65: =X61*4.5+X62*2.5+X63*3 -> 0 | Y65: =Y61*4.5+Y62*2.5+Y63*3 -> 0 | Z65: =SUM(U65:Y65) -> 0 | AA65: =Z65/10 -> 0
T66: SEB | U66: =U61*1.5+U62*2.5+U63*2+U64*2 -> 0 | V66: =V61*1.5+V62*2.5+V63*2+V64*2 -> 0 | W66: =W61*1.5+W62*2.5+W63*2+W64*2 -> 0 | X66: =X61*1.5+X62*2.5+X63*2+X64*2 -> 0 | Y66: =Y61*1.5+Y62*2.5+Y63*2+Y64*2 -> 0 | Z66: =SUM(U66:Y66) -> 0 | AA66: =Z66/8 -> 0
B69: Provisorische Berechnung für einen allfälligen Betreuungsbeitrag
B72: Anspruchberechtigtes Einkommen | F72: ='Berechnung Einkommen'!E27 -> 0
D74: Betreuungsart | F74: Betreuungsbeitrag pro Tag | H74: Betreuungsbeitrag pro Monat | J74: Kosten für Erziehungsberechtigte pro Monat
B76: Kind 1 | D76: =F23 -> Betreuungsart auswählen | F76: =SUM('Rechner Kita SE'!C51,'Rechner TFO'!C58,'Rechner Mittagstisch'!C44) -> #VALUE! | H76: =SUM('Rechner Kita SE'!C52,'Rechner TFO'!C59,'Rechner Mittagstisch'!C47) -> #VALUE! | K76: =SUM('Rechner Kita SE'!C53,'Rechner TFO'!C60,'Rechner Mittagstisch'!C48) -> 0
B78: Kind 2 | D78: =F32 -> Kindertagesstätte (Kita) | F78: =SUM('Rechner Kita SE'!E51,'Rechner TFO'!E58,'Rechner Mittagstisch'!E46) -> #VALUE! | H78: =SUM('Rechner Kita SE'!E52,'Rechner TFO'!E59,'Rechner Mittagstisch'!E47) -> #VALUE! | K78: =SUM('Rechner Kita SE'!E53,'Rechner TFO'!E60,'Rechner Mittagstisch'!E48) -> #VALUE!
B80: Kind 3 | D80: =F41 -> Betreuungsart auswählen | F80: =SUM('Rechner Kita SE'!G51,'Rechner TFO'!G58,'Rechner Mittagstisch'!G46) -> #VALUE! | H80: =SUM('Rechner Kita SE'!G52,'Rechner TFO'!G59,'Rechner Mittagstisch'!G47) -> #VALUE! | K80: =SUM('Rechner Kita SE'!G53,'Rechner TFO'!G60,'Rechner Mittagstisch'!G48) -> 0
B82: Kind 4 | D82: =F50 -> Betreuungsart auswählen | F82: =SUM('Rechner Kita SE'!I51,'Rechner TFO'!I58,'Rechner Mittagstisch'!I46) -> #VALUE! | H82: =SUM('Rechner Kita SE'!I52,'Rechner TFO'!I59,'Rechner Mittagstisch'!I47) -> #VALUE! | K82: =SUM('Rechner Kita SE'!I53,'Rechner TFO'!I60,'Rechner Mittagstisch'!I48) -> 0
B84: Kind 5 | D84: =F59 -> Betreuungsart auswählen | F84: =SUM('Rechner Kita SE'!K51,'Rechner TFO'!K58,'Rechner Mittagstisch'!K46) -> #VALUE! | H84: =SUM('Rechner Kita SE'!K52,'Rechner TFO'!K59,'Rechner Mittagstisch'!K47) -> #VALUE! | K84: =SUM('Rechner Kita SE'!K53,'Rechner TFO'!K60,'Rechner Mittagstisch'!K48) -> 0
B86: Total | F86: =IFERROR(SUM(F76:F84),0) -> 0 | H86: =IFERROR(SUM(H76:H84),0) -> 0 | I86: =SUM(I76:I84) -> 0 | K86: =SUM(K76:L84) -> #VALUE!
B88: Wenn das anspruchsberechtigte Einkommen die Obergrenze von Fr. 153'215.- nicht überschreitet, besteht die Möglichkeit Kinderbetreuungsbeiträge für die familienergänzende Kinderbetreuung zu erhalten.
B90: Die definitive Höhe der Betreuungsbeiträge kann von der Berechnung des Beitragrechners abweichen, da nicht alle Faktoren miteinbezogen werden können, welche möglicherweise Einfluss auf die Berechnung haben. Alle Angaben sind ohne Gewähr.
B92: Ein Gesuch für familienergänzende Kinderbetreuungsbeiträge können Sie über die IT-Applikation kiBon stellen.

Sheet Berechnung Liegenschaftsunterh.
B3: Der Liegenschaftsunterhalt, welcher den Pauschalabzug übersteigt, muss zu dem Reineinkommen dazugerechnet werden.
B5: Berechnung:
B6: Total aller Liegenschafterträge (Code 530, 532, 533, 536) x 20 % = Pauschalabzug
B7: Bei den Liegenschaftserträgen sind sämtliche Erträge zu berücksichtigen, die in der Steuerveranlagung aufgeführt sind (Codes 530, 532, 533, 536). Es ist jedoch möglich, dass nicht alle dieser Codes bei Ihnen vorkommen.
B8: Wenn der Pauschalabzug tiefer ist als die Liegenschaftsunterhaltskosten (Code 602) muss die Differenz zum Reineinkommen dazugerechnet werden.
B11: Total Liegenschaftserträge (Code 530 und/oder 532 und/oder 533 und/oder 536)
B12: Pauschalabzug | C12: =C11*20% -> 0
B14: Liegenschaftsunterhaltskosten (Code 602)
B16: zum Reineinkommen dazurechnen | C16: =IF(C14-C12<=0,0,IF(C14-C12>0,C14-C12)) -> 0

Sheet Berechnung Einkommen
B3: Berechnung für nicht an der Quelle Besteuerte
C4: Einkommen
C5: Reineinkommen | E5: =Beitragsrechner!F16 -> 0
C6: Einkaufe berufliche Vorsorge | E6: =Beitragsrechner!J12 -> 0
C7: ausserordentliche Liegenschaftsaufwand | E7: =Beitragsrechner!J14 -> 0
C8: 10% des Reinvermögen nach Abzug vom Freibetrag | E8: =MAX((Beitragsrechner!J16-200000)*0.1,0) -> 0
C9: Total Einkommen | E9: =SUM(E5:E8) -> 0
C11: Abzüge
C12: Sozialabzüge von 6'800. pro Kind | E12: =IF(Beitragsrechner!F19<>"Auswahl treffen",Beitragsrechner!F19*6800,0) -> 0 | G12: Sozialabzug angepasst
C13: Total Abzüge | E13: =SUM(E12) -> 0
C15: Total anspruchsberechtigtes Einkommen | E15: =MAX(E9-E13,0) -> 0
B19: Berechnung für an der Quelle Besteuerte
C20: Massgebendes Einkommen | E20: =Beitragsrechner!F14*0.8 -> 0
C21: Sozialabzüge von 6'800. pro Kind | E21: =IF(Beitragsrechner!F19<>"Auswahl treffen",Beitragsrechner!F19*6800,0) -> 0
C23: Total anspruchsberechtigtes Einkommen | E23: =E20-E21 -> 0
C27: Anspruchberechtigtes Einkommen | E27: =IF(H27,E23,E15) -> 0 | H27: =Beitragsrechner!F12="Ja" -> FALSE

Sheet Rechner Kita SE
A1: BG Rechner Kanton Schwyz
A3: Parameter | E3: Bemerkung
A4: Massgebendes Einkommen
A5: Untergrenze (maximaler BG) | B5: CHF | C5: 47193
A6: Obergrenze | B6: CHF | C6: 153215
A8: Normkosten Kita
A9: Kinder von 3 bis 18 Monaten (Babytarif) | B9: CHF | C9: 185
A10: Kinder ab 19 Monaten bis Primarstufeneintritt | B10: CHF | C10: 130
A11: Kinder ab Primarstufeneintritt - während der Schulzeit | B11: CHF | C11: 65
A12: Kinder ab Primarstufeneintritt - während der schulfreien Zeit | B12: CHF | C12: 100
A14: Minimaltarif (Minimaler Elternbeitrag) | B14: CHF | C14: 30 | E14: =C14/C10*0.9 -> 0.20769231
A17: Eingabefelder
C18: Kind | D18: 1 | E18: Kind | F18: 2 | G18: Kind | H18: 3 | I18: Kind | J18: 4 | K18: Kind | L18: 5 | M18: Info
C19: Berechnung Eingaben | E19: Berechnung Eingaben | G19: Berechnung Eingaben | I19: Berechnung Eingaben | K19: Berechnung Eingaben
A20: Eingabefelder | B20: Einheit
A21: Ist das Kind im Baby Tarif | C21: =IF(Beitragsrechner!AC23<=18,TRUE,FALSE) -> FALSE | E21: =IF(Beitragsrechner!AC34<=18,TRUE,FALSE) -> FALSE | G21: =IF(Beitragsrechner!AC43<=18,TRUE,FALSE) -> FALSE | I21: =IF(Beitragsrechner!AC52<=18,TRUE,FALSE) -> FALSE | K21: =IF(Beitragsrechner!AC62<=18,TRUE,FALSE) -> FALSE | M21: WAHR wenn das Kind zwischen 3 und 18 Monate alt ist
A22: Ist das Kind eingeschult | C22: =OR(Beitragsrechner!F23="Schulergänzende Betreuung",Beitragsrechner!J25="Ja") -> TRUE | E22: =OR(Beitragsrechner!F32="Schulergänzende Betreuung",Beitragsrechner!J34="Ja") -> FALSE | G22: =OR(Beitragsrechner!F41="Schulergänzende Betreuung",Beitragsrechner!J43="Ja") -> FALSE | I22: =OR(Beitragsrechner!F50="Schulergänzende Betreuung",Beitragsrechner!J52="Ja") -> FALSE | K22: =OR(Beitragsrechner!F59="Schulergänzende Betreuung",Beitragsrechner!J61="Ja") -> FALSE | M22: WAHR wenn das Kind eingeschult ist
A23: Findet die Betreuung während der Schulzeit statt | C23: =AND(C22,Beitragsrechner!F25="Ja") -> FALSE | E23: =AND(E22,Beitragsrechner!F34="Ja") -> FALSE | G23: =AND(G22,Beitragsrechner!F43="Ja") -> FALSE | I23: =AND(I22,Beitragsrechner!F52="Ja") -> FALSE | K23: =AND(K22,Beitragsrechner!F61="Ja") -> FALSE | M23: WAHR wenn das Kind eingeschult ist und während der Schulzeitbetreuut wird
A24: Tagestarif | B24: CHF | C24: =Beitragsrechner!F27 -> 0 | E24: =Beitragsrechner!F36 -> 0 | G24: =Beitragsrechner!F45 -> 0 | I24: =Beitragsrechner!F54 -> 0 | K24: =Beitragsrechner!F63 -> 0
A25: Anspruchsberechtigtes Betreuungspensum | B25: % | C25: =MIN(1/5*IF(AND('Rechner Kita SE'!C22,Beitragsrechner!F23="Schulergänzende Betreuung"),Beitragsrechner!AA29,Beitragsrechner!AA28),1) -> 0 | E25: =MIN(1/5*IF(AND('Rechner Kita SE'!E22,Beitragsrechner!F32="Schulergänzende Betreuung"),Beitragsrechner!AA39,Beitragsrechner!AA38),1) -> 0 | G25: =MIN(1/5*IF(AND('Rechner Kita SE'!G22,Beitragsrechner!F41="Schulergänzende Betreuung"),Beitragsrechner!AA48,Beitragsrechner!AA47),1) -> 0 | I25: =MIN(1/5*IF(AND('Rechner Kita SE'!I22,Beitragsrechner!F50="Schulergänzende Betreuung"),Beitragsrechner!AA57,Beitragsrechner!AA56),1) -> 0 | K25: =MIN(1/5*IF(AND('Rechner Kita SE'!K22,Beitragsrechner!F59="Schulergänzende Betreuung"),Beitragsrechner!AA66,Beitragsrechner!AA65),1) -> 0 | M25: 20% = 1 Tag pro Woche
A26: Anspruchberechtigtes Einkommen | B26: CHF | C26: ='Berechnung Einkommen'!E27 -> 0 | E26: ='Berechnung Einkommen'!E27 -> 0 | G26: ='Berechnung Einkommen'!E27 -> 0 | I26: ='Berechnung Einkommen'!E27 -> 0 | K26: ='Berechnung Einkommen'!E27 -> 0
A27: Anzahl Geschwister, die ebenfalls familienergänzend betreut werden | B27: Anz. | C27: =Beitragsrechner!J19-1 -> #VALUE! | E27: =Beitragsrechner!J19-1 -> #VALUE! | G27: =Beitragsrechner!J19-1 -> #VALUE! | I27: =Beitragsrechner!J19-1 -> #VALUE! | K27: =Beitragsrechner!J19-1 -> #VALUE! | M27: 10% Geschwisterrabatt (pro Geschwister welche auch Familienergänzend betreut werden)
A29: Betreuungstage pro Woche / pro Monat
A30: Betreuungstage pro Woche | B30: t | C30: =C25*5 -> 0 | E30: =E25*5 -> 0 | G30: =G25*5 -> 0 | I30: =I25*5 -> 0 | K30: =K25*5 -> 0 | M30: Anspruchberechtigtes Betreuungspensum * 5
A31: Betreuungstage pro Monat | B31: t | C31: =4*C30 -> 0 | E31: =4*E30 -> 0 | G31: =4*G30 -> 0 | I31: =4*I30 -> 0 | K31: =4*K30 -> 0 | M31: 4 (Wochen pro Monat) * Betreuungstage pro Woche
A33: Zuschläge
A34: Zuschlag Geschwisterbonus (von 10% je Geschwister mit Betreuung) | B34: % | C34: =C27*10% -> #VALUE! | E34: =E27*10% -> #VALUE! | G34: =G27*10% -> #VALUE! | I34: =I27*10% -> #VALUE! | K34: =K27*10% -> #VALUE!
A36: Berechnung des Tarif
A37: Normkosten | B37: CHF | C37: =IF(C21,$C$9,IF(C22,IF(C23,$C$11,$C$12),$C$10)) -> 100 | E37: =IF(E21,$C$9,IF(E22,IF(E23,$C$11,$C$12),$C$10)) -> 130 | G37: =IF(G21,$C$9,IF(G22,IF(G23,$C$11,$C$12),$C$10)) -> 130 | I37: =IF(I21,$C$9,IF(I22,IF(I23,$C$11,$C$12),$C$10)) -> 130 | K37: =IF(K21,$C$9,IF(K22,IF(K23,$C$11,$C$12),$C$10)) -> 130 | M37: Normkosten gemäss Alter
A38: Tarif | B38: CHF | C38: =MIN(C37,C24) -> 0 | E38: =MIN(E37,E24) -> 0 | G38: =MIN(G37,G24) -> 0 | I38: =MIN(I37,I24) -> 0 | K38: =MIN(K37,K24) -> 0 | M38: Minimum Tagestraif oder Normkosten (Tieferer Wert)
A40: Berechnungen Grundbetrag & Anstieg Elterbeitrag / 1 CHF Einkommen
A41: Grundbetrag | B41: % | C41: =IF(C37>0,$C$14/C37*(1-C34),0) -> #VALUE! | E41: =IF(E37>0,$C$14/E37*(1-E34),0) -> #VALUE! | G41: =IF(G37>0,$C$14/G37*(1-G34),0) -> #VALUE! | I41: =IF(I37>0,$C$14/I37*(1-I34),0) -> #VALUE! | K41: =IF(K37>0,$C$14/K37*(1-K34),0) -> #VALUE! | M41: u = Minimaltarif / Normkosten * (1 - g)
A42: Anstieg Beitrag durch Erziehungsberechtigte pro Franken mehr Einkommen | B42: % | C42: =(1-C41)/($C$6-$C$5) -> #VALUE! | E42: =(1-E41)/($C$6-$C$5) -> #VALUE! | G42: =(1-G41)/($C$6-$C$5) -> #VALUE! | I42: =(1-I41)/($C$6-$C$5) -> #VALUE! | K42: =(1-K41)/($C$6-$C$5) -> #VALUE! | M42: z = (1 - u) / (Obergrenze - Untergrenze)
A44: Berechnungen des Selbstbehaltes
A45: Selbstbehalt der Erziehungsberechtigten | B45: % | C45: =IF(MIN(C41+C42*(C26-$C$5),1)<0,0,MIN(C41+C42*(C26-$C$5),1)) -> #VALUE! | E45: =IF(MIN(E41+E42*(E26-$C$5),1)<0,0,MIN(E41+E42*(E26-$C$5),1)) -> #VALUE! | G45: =IF(MIN(G41+G42*(G26-$C$5),1)<0,0,MIN(G41+G42*(G26-$C$5),1)) -> #VALUE! | I45: =IF(MIN(I41+I42*(I26-$C$5),1)<0,0,MIN(I41+I42*(I26-$C$5),1)) -> #VALUE! | K45: =IF(MIN(K41+K42*(K26-$C$5),1)<0,0,MIN(K41+K42*(K26-$C$5),1)) -> #VALUE! | M45: y = u + z * (massgebendes Einkommen - Untergrenze)
A46: Selbstbehalt pro Tag | B46: CHF | C46: =C38*C45 -> #VALUE! | E46: =E38*E45 -> #VALUE! | G46: =G38*G45 -> #VALUE! | I46: =I38*I45 -> #VALUE! | K46: =K38*K45 -> #VALUE! | M46: Wenn Tagestarif höher ist als die Normkosten, dann Diffferenz zu Lasten der Eltern
A48: Berechnungen Betreuungsbeitrag
A49: Betreuungsbeitrag pro Tag (vor Abzug des minimalen Beitrags) | B49: CHF | C49: =IF(OR(Beitragsrechner!F23="Kindertagesstätte (Kita)",Beitragsrechner!F23="Schulergänzende Betreuung"),C38*(1-C45),0) -> 0 | E49: =IF(OR(Beitragsrechner!F32="Kindertagesstätte (Kita)",Beitragsrechner!F32="Schulergänzende Betreuung"),E38*(1-E45),0) -> #VALUE! | G49: =IF(OR(Beitragsrechner!F41="Kindertagesstätte (Kita)",Beitragsrechner!F41="Schulergänzende Betreuung"),G38*(1-G45),0) -> 0 | I49: =IF(OR(Beitragsrechner!F50="Kindertagesstätte (Kita)",Beitragsrechner!F50="Schulergänzende Betreuung"),I38*(1-I45),0) -> 0 | K49: =IF(OR(Beitragsrechner!F59="Kindertagesstätte (Kita)",Beitragsrechner!F59="Schulergänzende Betreuung"),K38*(1-K45),0) -> 0 | M49: x = Normkosten (oder der Tarif KiBe) * (1 - Selbstbehalt)
A50: Minimaler Beitrag der Erziehungsberechtigen (pro Tag) | B50: CHF | C50: =IF(C34>0,MAX($C$14*(C34-1)*-1-C46,0),MAX($C$14-C46,0)) -> #VALUE! | E50: =IF(E34>0,MAX($C$14*(E34-1)*-1-E46,0),MAX($C$14-E46,0)) -> #VALUE! | G50: =IF(G34>0,MAX($C$14*(G34-1)*-1-G46,0),MAX($C$14-G46,0)) -> #VALUE! | I50: =IF(I34>0,MAX($C$14*(I34-1)*-1-I46,0),MAX($C$14-I46,0)) -> #VALUE! | K50: =IF(K34>0,MAX($C$14*(K34-1)*-1-K46,0),MAX($C$14-K46,0)) -> #VALUE! | N50: Änderung Geschwisterrabatt,gilt neu auch für Personen unter der Untergränze
A51: Total Betreuungsbeitrag pro Tag | B51: CHF | C51: =MAX(C49-C50,0) -> #VALUE! | E51: =MAX(E49-E50,0) -> #VALUE! | G51: =MAX(G49-G50,0) -> #VALUE! | I51: =MAX(I49-I50,0) -> #VALUE! | K51: =MAX(K49-K50,0) -> #VALUE! | M51: Betreuungsbeitrag - minimaler Elternbeitrag
A52: Total Betreuungsbeitrag pro Monat | B52: CHF | C52: =C51*C31 -> #VALUE! | E52: =E51*E31 -> #VALUE! | G52: =G51*G31 -> #VALUE! | I52: =I51*I31 -> #VALUE! | K52: =K51*K31 -> #VALUE! | M52: Betreuungsbeitrag pro Tag * Betreuungstage pro Monat
A53: Total Kosten für Erziehungsberechtigte pro Monat | C53: =IF(OR(Beitragsrechner!F23="Kindertagesstätte (Kita)",Beitragsrechner!F23="Schulergänzende Betreuung"),C31*(C24-C51),0) -> 0 | E53: =IF(OR(Beitragsrechner!F32="Kindertagesstätte (Kita)",Beitragsrechner!F32="Schulergänzende Betreuung"),E31*(E24-E51),0) -> #VALUE! | G53: =IF(OR(Beitragsrechner!F41="Kindertagesstätte (Kita)",Beitragsrechner!F41="Schulergänzende Betreuung"),G31*(G24-G51),0) -> 0 | I53: =IF(OR(Beitragsrechner!F50="Kindertagesstätte (Kita)",Beitragsrechner!F50="Schulergänzende Betreuung"),I31*(I24-I51),0) -> 0 | K53: =IF(OR(Beitragsrechner!F59="Kindertagesstätte (Kita)",Beitragsrechner!F59="Schulergänzende Betreuung"),K31*(K24-K51),0) -> 0

Sheet Rechner TFO
A1: Beitragsrechner Kanton Schwyz - Tagesfamilien
A3: Parameter | E3: Bemerkung
A4: Massgebendes Einkommen
A5: Untergrenze (maximaler BG) | B5: CHF | C5: 47193
A6: Obergrenze | B6: CHF | C6: 153215
A8: Normkosten Tagesfamilie | E8: Stundentarif (Norm)
A9: Kinder von 3 bis 18 Monaten (Babytarif) | B9: CHF | C9: 120 | E9: =C9/10 -> 12
A10: Kinder ab 19 Monaten bis Primarstufeneintritt | B10: CHF | C10: 90 | E10: =C10/10 -> 9
A11: Kinder ab Primarstufeneintritt - während der Schulzeit | B11: CHF | C11: 36 | E11: =C11/10 -> 3.6
A12: Kinder ab Primarstufeneintritt - während der schulfreien Zeit | B12: CHF | C12: 60 | E12: =C12/10 -> 6
A14: Minimaltarif (Minimaler Elternbeitrag) | B14: CHF | C14: 30 | E14: =C14/10 -> 3
A15: Vermittlungsgebühr | B15: CHF | C15: 4
A16: Eingabefelder
C17: Kind | D17: 1 | E17: Kind | F17: 2 | G17: Kind | H17: 3 | I17: Kind | J17: 4 | K17: Kind | L17: 5 | M17: Info
C18: Berechnung Eingaben | E18: Berechnung Eingaben | G18: Berechnung Eingaben | I18: Berechnung Eingaben | K18: Berechnung Eingaben
A19: Eingabefelder | B19: Einheit
A20: Ist das Kind im Baby Tarif | C20: =IF(Beitragsrechner!J23<=18,TRUE,FALSE) -> TRUE | E20: =IF(Beitragsrechner!J32<=18,TRUE,FALSE) -> TRUE | G20: =IF(Beitragsrechner!J41<=18,TRUE,FALSE) -> TRUE | I20: =IF(Beitragsrechner!J50<=18,TRUE,FALSE) -> TRUE | K20: =IF(Beitragsrechner!J59<=18,TRUE,FALSE) -> TRUE | M20: WAHR wenn das Kind zwischen 3 und 18 Monate alt ist
A21: Ist das Kind eingeschult | C21: =Beitragsrechner!J25="Ja" -> TRUE | E21: =Beitragsrechner!J34="Ja" -> FALSE | G21: =Beitragsrechner!J43="Ja" -> FALSE | I21: =Beitragsrechner!J52="Ja" -> FALSE | K21: =Beitragsrechner!J61="Ja" -> FALSE | M21: WAHR wenn das Kind eingeschult ist
A22: Findet die Betreuung während der Schulzeit statt | C22: =AND(C21,Beitragsrechner!F25="Ja") -> FALSE | E22: =AND(E21,Beitragsrechner!F34="Ja") -> FALSE | G22: =AND(G21,Beitragsrechner!F43="Ja") -> FALSE | I22: =AND(I21,Beitragsrechner!F52="Ja") -> FALSE | K22: =AND(K21,Beitragsrechner!F61="Ja") -> FALSE | M22: WAHR wenn das Kind eingeschult ist und während der Schulzeitbetreuut wird
A23: Stundentarif | B23: CHF | C23: =Beitragsrechner!F28 -> 0 | E23: =Beitragsrechner!F37 -> 0 | G23: =Beitragsrechner!F46 -> 0 | I23: =Beitragsrechner!F55 -> 0 | K23: =Beitragsrechner!F64 -> 0
A24: Anspruchsberechtigtes Betreuungspensum | B24: % | C24: =1/50*Beitragsrechner!J28 -> 0 | E24: =1/50*Beitragsrechner!J37 -> 0 | G24: =1/50*Beitragsrechner!J46 -> 0 | I24: =1/50*Beitragsrechner!J55 -> 0 | K24: =1/50*Beitragsrechner!J64 -> 0 | M24: 20% = 1 Tag pro Woche, 1 Tag = 10 Stunden
A25: Anspruchberechtigtes Einkommen | B25: CHF | C25: ='Berechnung Einkommen'!E27 -> 0 | E25: ='Berechnung Einkommen'!E27 -> 0 | G25: ='Berechnung Einkommen'!E27 -> 0 | I25: ='Berechnung Einkommen'!E27 -> 0 | K25: ='Berechnung Einkommen'!E27 -> 0
A26: Anzahl Geschwister, die ebenfalls familienergänzend betreut werden | B26: Anz. | C26: =Beitragsrechner!J19-1 -> #VALUE! | E26: =Beitragsrechner!J19-1 -> #VALUE! | G26: =Beitragsrechner!J19-1 -> #VALUE! | I26: =Beitragsrechner!J19-1 -> #VALUE! | K26: =Beitragsrechner!J19-1 -> #VALUE! | M26: 10% Geschwisterrabatt (pro Geschwister welche auch Familienergänzend betreut werden)
A28: Betreuungstage pro Woche / pro Monat
A29: Betreuungsstunden pro Woche | B29: std | C29: =Beitragsrechner!J28 -> 0 | E29: =Beitragsrechner!J37 -> 0 | G29: =Beitragsrechner!J46 -> 0 | I29: =Beitragsrechner!J55 -> 0 | K29: =Beitragsrechner!J64 -> 0
A30: Betreuungsstunden pro Monat | B30: std | C30: =C29*4 -> 0 | E30: =E29*4 -> 0 | G30: =G29*4 -> 0 | I30: =I29*4 -> 0 | K30: =K29*4 -> 0
A31: Betreuungstage pro Woche | B31: t | C31: =Beitragsrechner!J29 -> 0 | E31: =Beitragsrechner!J38 -> 0 | G31: =Beitragsrechner!J47 -> 0 | I31: =Beitragsrechner!J56 -> 0 | K31: =Beitragsrechner!J64 -> 0 | M31: Anspruchberechtigtes Betreuungspensum * 5
A32: Betreuungstage pro Monat | B32: t | C32: =4*C31 -> 0 | E32: =4*E31 -> 0 | G32: =4*G31 -> 0 | I32: =4*I31 -> 0 | K32: =4*K31 -> 0 | M32: 4 (Wochen pro Monat) * Betreuungstage pro Woche
A34: Zuschläge
A35: Zuschlag Geschwisterbonus (von 10% je Geschwister mit Betreuung) | B35: % | C35: =C26*10% -> #VALUE! | E35: =E26*10% -> #VALUE! | G35: =G26*10% -> #VALUE! | I35: =I26*10% -> #VALUE! | K35: =K26*10% -> #VALUE!
A37: Berechnung des Tarif
A38: Normkosten pro Tag | B38: CHF | C38: =IF(C20,$C$9,IF(C21,IF(C22,$C$11,$C$12),$C$10)) -> 120 | E38: =IF(E20,$C$9,IF(E21,IF(E22,$C$11,$C$12),$C$10)) -> 120 | G38: =IF(G20,$C$9,IF(G21,IF(G22,$C$11,$C$12),$C$10)) -> 120 | I38: =IF(I20,$C$9,IF(I21,IF(I22,$C$11,$C$12),$C$10)) -> 120 | K38: =IF(K20,$C$9,IF(K21,IF(K22,$C$11,$C$12),$C$10)) -> 120 | M38: Normkosten gemäss Alter
A39: Normkosten pro Stunde | B39: CHF | C39: =C38/10 -> 12 | E39: =E38/10 -> 12 | G39: =G38/10 -> 12 | I39: =I38/10 -> 12 | K39: =K38/10 -> 12 | M39: Normkosten pro Tag / 10
A40: Stundentarif | B40: CHF | C40: =C23 -> 0 | E40: =E23 -> 0 | G40: =G23 -> 0 | I40: =I23 -> 0 | K40: =K23 -> 0
A41: Anteilsmässige Vermittlungsgebühr pro Stunde | B41: CHF | C41: =C32/C30*4 -> #DIV/0! | E41: =E32/E30*4 -> #DIV/0! | G41: =G32/G30*4 -> #DIV/0! | I41: =I32/I30*4 -> #DIV/0! | K41: =K32/K30*4 -> #DIV/0! | M41: 4 Franken * Anz. Tage Betreuung pro Monat / Anz. Stunden Betreuung pro Monat
A42: Tarif pro Stunde (effektiv) | B42: CHF | C42: =C40+C41 -> #DIV/0! | E42: =E40+E41 -> #DIV/0! | G42: =G40+G41 -> #DIV/0! | I42: =I40+I41 -> #DIV/0! | K42: =K40+K41 -> #DIV/0!
A43: Tarif pro Stunde (Normkosten) | B43: CHF | C43: =C39+C41 -> #DIV/0! | E43: =E39+E41 -> #DIV/0! | G43: =G39+G41 -> #DIV/0! | I43: =I39+I41 -> #DIV/0! | K43: =K39+K41 -> #DIV/0!
A44: Differenz der Stundentarife (Effektiv - Normkosten) | B44: CHF | C44: =C42-C43 -> #DIV/0! | E44: =E42-E43 -> #DIV/0! | G44: =G42-G43 -> #DIV/0! | I44: =I42-I43 -> #DIV/0! | K44: =K42-K43 -> #DIV/0!
A46: Berechnungen Grundbetrag & Anstieg Elterbeitrag / 1 CHF Einkommen
A47: Grundbetrag | B47: % | C47: =$E$14/(C39+C41)*(1-C35) -> #DIV/0! | E47: =$E$14/(E39+E41)*(1-E35) -> #DIV/0! | G47: =$E$14/(G39+G41)*(1-G35) -> #DIV/0! | I47: =$E$14/(I39+I41)*(1-I35) -> #DIV/0! | K47: =$E$14/(K39+K41)*(1-K35) -> #DIV/0! | M47: u = Minimaltarif / Normkosten * (1 - g)
A48: Anstieg Beitrag durch Erziehungsberechtigte pro Franken mehr Einkommen | B48: % | C48: =(1-C47)/($C$6-$C$5) -> #DIV/0! | E48: =(1-E47)/($C$6-$C$5) -> #DIV/0! | G48: =(1-G47)/($C$6-$C$5) -> #DIV/0! | I48: =(1-I47)/($C$6-$C$5) -> #DIV/0! | K48: =(1-K47)/($C$6-$C$5) -> #DIV/0! | M48: z = (1 - u) / (Obergrenze - Untergrenze)
A50: Berechnungen des Selbstbehaltes
A51: Selbstbehalt der Erziehungsberechtigten | B51: % | C51: =IF(MIN(C47+C48*(C25-$C$5),1)<0,0,MIN(C47+C48*(C25-$C$5),1)) -> #DIV/0! | E51: =IF(MIN(E47+E48*(E25-$C$5),1)<0,0,MIN(E47+E48*(E25-$C$5),1)) -> #DIV/0! | G51: =IF(MIN(G47+G48*(G25-$C$5),1)<0,0,MIN(G47+G48*(G25-$C$5),1)) -> #DIV/0! | I51: =IF(MIN(I47+I48*(I25-$C$5),1)<0,0,MIN(I47+I48*(I25-$C$5),1)) -> #DIV/0! | K51: =IF(MIN(K47+K48*(K25-$C$5),1)<0,0,MIN(K47+K48*(K25-$C$5),1)) -> #DIV/0! | M51: y = u + z * (massgebendes Einkommen - Untergrenze)
A52: Selbstbehalt pro Stunde | B52: CHF | C52: =MIN(C42:C43)*C51 -> #DIV/0! | E52: =MIN(E42:E43)*E51 -> #DIV/0! | G52: =MIN(G42:G43)*G51 -> #DIV/0! | I52: =MIN(I42:I43)*I51 -> #DIV/0! | K52: =MIN(K42:K43)*K51 -> #DIV/0! | M52: Wenn Tagestarif höher ist als die Normkosten, dann Diffferenz zu Lasten der Eltern
A54: Berechnungen Betreuungsbeitrag
A55: Betreuungsbeitrag pro Stunde (vor Abzug des minimalen Beitrags) | B55: CHF | C55: =IF(Beitragsrechner!F23="Tagesfamilie",MIN(C42:C43)*(1-C51),0) -> 0 | E55: =IF(Beitragsrechner!F32="Tagesfamilie",MIN(E42:E43)*(1-E51),0) -> 0 | G55: =IF(Beitragsrechner!F41="Tagesfamilie",MIN(G42:G43)*(1-G51),0) -> 0 | I55: =IF(Beitragsrechner!F50="Tagesfamilie",MIN(I42:I43)*(1-I51),0) -> 0 | K55: =IF(Beitragsrechner!F50="Tagesfamilie",MIN(K42:K43)*(1-K51),0) -> 0
A56: Minimaler Beitrag der Erziehungsberechtigen (pro Stunde) | B56: CHF | C56: =IF(C35>0,MAX($E$14*(C35-1)*-1-C52,0),MAX($E$14-C52,0)) -> #VALUE! | E56: =IF(E35>0,MAX($E$14*(E35-1)*-1-E52,0),MAX($E$14-E52,0)) -> #VALUE! | G56: =IF(G35>0,MAX($E$14*(G35-1)*-1-G52,0),MAX($E$14-G52,0)) -> #VALUE! | I56: =IF(I35>0,MAX($E$14*(I35-1)*-1-I52,0),MAX($E$14-I52,0)) -> #VALUE! | K56: =IF(K35>0,MAX($E$14*(K35-1)*-1-K52,0),MAX($E$14-K52,0)) -> #VALUE!
A57: Total Betreuungsbeitrag pro Stunde | B57: CHF | C57: =MAX(C55-C56,0) -> #VALUE! | E57: =MAX(E55-E56,0) -> #VALUE! | G57: =MAX(G55-G56,0) -> #VALUE! | I57: =MAX(I55-I56,0) -> #VALUE! | K57: =MAX(K55-K56,0) -> #VALUE! | M57: Betreuungsbeitrag - minimaler Elternbeitrag
A58: Total Betreuungsbeitrag pro durchschnittlicher Tag | B58: CHF | C58: =IF(C31>0,C57*C29/C31,0) -> 0 | E58: =IF(E31>0,E57*E29/E31,0) -> 0 | G58: =IF(G31>0,G57*G29/G31,0) -> 0 | I58: =IF(I31>0,I57*I29/I31,0) -> 0 | K58: =IF(K31>0,K57*K29/K31,0) -> 0 | M58: Betreuungsbeitrag pro Tag / 10 Stunden
A59: Total Betreuungsbeitrag pro Monat | B59: CHF | C59: =C58*C32 -> 0 | E59: =E58*E32 -> 0 | G59: =G58*G32 -> 0 | I59: =I58*I32 -> 0 | K59: =K58*K32 -> 0 | M59: Betreuungsbeitrag pro Tag * Betreuungstage pro Monat
A60: Kosten für die Erziehungsberechtigten pro Monat | B60: CHF | C60: =IF(Beitragsrechner!F23="Tagesfamilie",C42*C30-C59,0) -> 0 | E60: =IF(Beitragsrechner!F32="Tagesfamilie",E42*E30-E59,0) -> 0 | G60: =IF(Beitragsrechner!F41="Tagesfamilie",G42*G30-G59,0) -> 0 | I60: =IF(Beitragsrechner!F50="Tagesfamilie",I42*I30-I59,0) -> 0 | K60: =IF(Beitragsrechner!F50="Tagesfamilie",K42*K30-K59,0) -> 0 | M60: (Effektiver Stundentarif Kita * Anzahl Stunden pro Monat) - Betreuungsbeitrag pro Monat

Sheet Rechner Mittagstisch
A1: Beitragsrechner Kanton Schwyz - Mittagstisch
A3: Parameter | E3: Bemerkung
A4: Massgebendes Einkommen
A5: Untergrenze (maximaler BG) | B5: CHF | C5: 47193
A6: Obergrenze | B6: CHF | C6: 153215
A8: Normkosten
A9: Normkosten Mittagstisch | B9: CHF | C9: 17
A11: Minimaltarif (Minimaler Elternbeitrag) | B11: CHF | C11: =30/4 -> 7.5
A14: Eingabefelder
C15: Kind | D15: 1 | E15: Kind | F15: 2 | G15: Kind | H15: 3 | I15: Kind | J15: 4 | K15: Kind | L15: 5 | M15: Info
C16: Berechnung Eingaben | E16: Berechnung Eingaben | F16: ? | G16: Berechnung Eingaben | H16: ? | I16: Berechnung Eingaben | K16: Berechnung Eingaben
A17: Eingabefelder | B17: Einheit
A18: Tarif pro Mahlzeit | B18: CHF | C18: =Beitragsrechner!F29 -> 0 | E18: =Beitragsrechner!F38 -> 0 | G18: =Beitragsrechner!F47 -> 0 | I18: =Beitragsrechner!F56 -> 0 | K18: =Beitragsrechner!F65 -> 0
A19: Anspruchsberechtigtes Betreuungspensum | B19: % | C19: =Beitragsrechner!AC25/5 -> 0 | E19: =Beitragsrechner!AC36/5 -> 0 | G19: =Beitragsrechner!AC45/5 -> 0 | I19: =Beitragsrechner!AC54/5 -> 0 | K19: =Beitragsrechner!AC64/5 -> 0 | M19: 20% = 1 Mahlzeit pro Woche
A20: Anspruchberechtigtes Einkommen | B20: CHF | C20: ='Berechnung Einkommen'!E27 -> 0 | E20: ='Berechnung Einkommen'!E27 -> 0 | G20: ='Berechnung Einkommen'!E27 -> 0 | I20: ='Berechnung Einkommen'!E27 -> 0 | K20: ='Berechnung Einkommen'!E27 -> 0
A21: Anzahl Geschwister, die ebenfalls familienergänzend betreut werden | B21: Anz. | C21: =Beitragsrechner!J19-1 -> #VALUE! | E21: =Beitragsrechner!J19-1 -> #VALUE! | G21: =Beitragsrechner!J19-1 -> #VALUE! | I21: =Beitragsrechner!J19-1 -> #VALUE! | K21: =Beitragsrechner!J19-1 -> #VALUE! | M21: 10% Geschwisterrabatt (pro Geschwister welche auch Familienergänzend betreut werden)
A23: Betreuungstage pro Woche / pro Monat
A24: Betreuungstage pro Woche | B24: t | C24: =C19*5 -> 0 | E24: =E19*5 -> 0 | G24: =G19*5 -> 0 | I24: =I19*5 -> 0 | K24: =K19*5 -> 0 | M24: Anspruchberechtigtes Betreuungspensum * 5
A25: Betreuungstage pro Monat | B25: t | C25: =4*C24 -> 0 | E25: =4*E24 -> 0 | G25: =4*G24 -> 0 | I25: =4*I24 -> 0 | K25: =4*K24 -> 0 | M25: 4 (Wochen pro Monat) * Betreuungstage pro Woche
A27: Zuschläge
A28: Zuschlag Geschwisterbonus (von 10% je Geschwister mit Betreuung) | B28: % | C28: =C21*10% -> #VALUE! | E28: =E21*10% -> #VALUE! | G28: =G21*10% -> #VALUE! | I28: =I21*10% -> #VALUE! | K28: =K21*10% -> #VALUE!
A30: Berechnung des Tarif
A31: Normkosten | B31: CHF | C31: =$C$9 -> 17 | E31: =$C$9 -> 17 | G31: =$C$9 -> 17 | I31: =$C$9 -> 17 | K31: =$C$9 -> 17 | M31: Normkosten gemäss Alter
A32: Tagestarif | B32: CHF | C32: =C18 -> 0 | E32: =E18 -> 0 | G32: =G18 -> 0 | I32: =I18 -> 0 | K32: =K18 -> 0 | M32: Stundentarif * 10
A33: Tarif | B33: CHF | C33: =MIN(C31,C32) -> 0 | E33: =MIN(E31,E32) -> 0 | G33: =MIN(G31,G32) -> 0 | I33: =MIN(I31,I32) -> 0 | K33: =MIN(K31,K32) -> 0 | M33: Minimum Tagestraif oder Normkosten (Tieferer Wert)
A35: Berechnungen Grundbetrag & Anstieg Elterbeitrag / 1 CHF Einkommen
A36: Grundbetrag | B36: % | C36: =$C$11/C31*(1-C28) -> #VALUE! | E36: =$C$11/E31*(1-E28) -> #VALUE! | G36: =$C$11/G31*(1-G28) -> #VALUE! | I36: =$C$11/I31*(1-I28) -> #VALUE! | K36: =$C$11/K31*(1-K28) -> #VALUE! | M36: u = Minimaltarif / Normkosten * (1 - g)
A37: Anstieg Beitrag durch Erziehungsberechtigte pro Franken mehr Einkommen | B37: % | C37: =(1-C36)/($C$6-$C$5) -> #VALUE! | E37: =(1-E36)/($C$6-$C$5) -> #VALUE! | G37: =(1-G36)/($C$6-$C$5) -> #VALUE! | I37: =(1-I36)/($C$6-$C$5) -> #VALUE! | K37: =(1-K36)/($C$6-$C$5) -> #VALUE! | M37: z = (1 - u) / (Obergrenze - Untergrenze)
A39: Berechnungen des Selbstbehaltes
A40: Selbstbehalt der Erziehungsberechtigten | B40: % | C40: =IF(MIN(C36+C37*(C20-$C$5),1)<0,0,MIN(C36+C37*(C20-$C$5),1)) -> #VALUE! | E40: =IF(MIN(E36+E37*(E20-$C$5),1)<0,0,MIN(E36+E37*(E20-$C$5),1)) -> #VALUE! | G40: =IF(MIN(G36+G37*(G20-$C$5),1)<0,0,MIN(G36+G37*(G20-$C$5),1)) -> #VALUE! | I40: =IF(MIN(I36+I37*(I20-$C$5),1)<0,0,MIN(I36+I37*(I20-$C$5),1)) -> #VALUE! | K40: =IF(MIN(K36+K37*(K20-$C$5),1)<0,0,MIN(K36+K37*(K20-$C$5),1)) -> #VALUE! | M40: y = u + z * (massgebendes Einkommen - Untergrenze)
A41: Selbstbehalt pro Tag | B41: CHF | C41: =C33*C40 -> #VALUE! | E41: =E33*E40 -> #VALUE! | G41: =G33*G40 -> #VALUE! | I41: =I33*I40 -> #VALUE! | K41: =K33*K40 -> #VALUE! | M41: Wenn Tagestarif höher ist als die Normkosten, dann Diffferenz zu Lasten der Eltern
A43: Berechnungen Betreuungsbeitrag
A44: Betreuungsbeitrag pro Mahlzeit (vor Abzug des minimalen Beitrags) | B44: CHF | C44: =IF(Beitragsrechner!F23="NUR Mittagstisch",C33*(1-C40),0) -> 0 | E44: =IF(Beitragsrechner!F32="NUR Mittagstisch",E33*(1-E40),0) -> 0 | G44: =IF(Beitragsrechner!F41="NUR Mittagtisch",G33*(1-G40),0) -> 0 | I44: =IF(Beitragsrechner!F50="NUR Mittagstisch",I33*(1-I40),0) -> 0 | K44: =IF(Beitragsrechner!F59="NUR Mittagstisch",K33*(1-K40),0) -> 0 | M44: x = Normkosten (oder der Tarif KiBe) * (1 - Selbstbehalt)
A45: Minimaler Beitrag der Erziehungsberechtigen | B45: CHF | C45: =IF(C28>0,MAX($C$11*(C28-1)*-1-C41,0),MAX($C$11-C41,0)) -> #VALUE! | E45: =IF(E28>0,MAX($C$11*(E28-1)*-1-E41,0),MAX($C$11-E41,0)) -> #VALUE! | G45: =IF(G28>0,MAX($C$11*(G28-1)*-1-G41,0),MAX($C$11-G41,0)) -> #VALUE! | I45: =IF(I28>0,MAX($C$11*(I28-1)*-1-I41,0),MAX($C$11-I41,0)) -> #VALUE! | K45: =IF(K28>0,MAX($C$11*(K28-1)*-1-K41,0),MAX($C$11-K41,0)) -> #VALUE!
A46: Total Betreuungsbeitrag pro Tag | B46: CHF | C46: =MAX(C44-C45,0) -> #VALUE! | E46: =MAX(E44-E45,0) -> #VALUE! | G46: =MAX(G44-G45,0) -> #VALUE! | I46: =MAX(I44-I45,0) -> #VALUE! | K46: =MAX(K44-K45,0) -> #VALUE! | M46: Betreuungsbeitrag - minimaler Elternbeitrag
A47: Total Betreuungsbeitrag pro Monat | B47: CHF | C47: =C46*C25 -> #VALUE! | E47: =E46*E25 -> #VALUE! | G47: =G46*G25 -> #VALUE! | I47: =I46*I25 -> #VALUE! | K47: =K46*K25 -> #VALUE! | M47: Betreuungsbeitrag pro Tag * Betreuungstage pro Monat
A48: Gesamtkosten für Erziehungsberechtigte pro Monat | B48: CHF | C48: =IF(Beitragsrechner!F23="NUR Mittagstisch",C25*(C18-C46),0) -> 0 | E48: =IF(Beitragsrechner!F32="NUR Mittagstisch",E25*(E18-E46),0) -> 0 | G48: =IF(Beitragsrechner!F41="NUR Mittagtisch",G25*(G18-G46),0) -> 0 | I48: =IF(Beitragsrechner!F50="NUR Mittagstisch",I25*(I18-I46),0) -> 0 | K48: =IF(Beitragsrechner!F59="NUR Mittagstisch",K25*(K18-K46),0) -> 0

Sheet Anpassungen
A2: Register | B2: Änderung
A4: Beitragsrechner | B4: Einführungstext ergänzt
A5: Beitragsrechner | B5: Text provisorische Berechnung im Beitragsrechner angepasst (für allfälligen Betreuungsbeitrag)
A6: Beitragsrechner | B6: Zeile 87 und 91 zusätzliche Texte ergenzt
A9: Berechnung Einkommen | B9: Zelle H26 wird schrift weiss gemacht, da sonst verwirrend für enduser
A10: Berechnung Einkommen | B10: Einkommen Quellenbesteuerung, Sozialabzug war bis anhin noch nicht berücksichtigt, ergänzt
A12: Rechner Kita | B12: Formel bei Rechner Kita SE für Kind 3-5 wurden angepasst, der Bezug zur Zelle bei Beitragsrechner war falsch (Zeile 49 und 53)
A13: Rechner Kita | B13: Formel in Zeile 22 und 23 waren bei Kinder 2 und folgende falsch. Angepasst (bezug von zeile 23 auf 22, spalte war jedoch falsch
A18: nach onlineschaltung:
A19: Rechner TFO | B19: Zeile 22, falsche Bezüge zu Beitragsrechner (Zeilen waren falsch)
B20: Zeile 52, Wenn effekt. Tarif tiefer, muss von diesem gerechnet werden
A26: Noch zu machen, wenn möglich
A27: Kommentare, welche durch AGS gemacht wurden, so wie interface darstellen
A28: Rechner als PDF?
A29: Berechnung Tagesfamilie, wenn mehr als 10 Stunden begrenzen? (Normkosten sind auf 10h pro Tag ausgelegt
A30: Berechnung/Resultat ev. vor Infos, welche es auszufüllen gibt? Oder verweis, das Resultat weiter unten ersichtlich ist…
